BEGIN:VCALENDAR
VERSION:2.0
PRODID:-//Coro Garaizarko Matsorriak - ECPv6.15.17//NONSGML v1.0//EN
CALSCALE:GREGORIAN
METHOD:PUBLISH
X-WR-CALNAME:Coro Garaizarko Matsorriak
X-ORIGINAL-URL:https://www.corogaraizarkomatsorriak.eus/eusk
X-WR-CALDESC:Eventos para Coro Garaizarko Matsorriak
REFRESH-INTERVAL;VALUE=DURATION:PT1H
X-Robots-Tag:noindex
X-PUBLISHED-TTL:PT1H
BEGIN:VTIMEZONE
TZID:UTC
BEGIN:STANDARD
TZOFFSETFROM:+0000
TZOFFSETTO:+0000
TZNAME:UTC
DTSTART:20210101T000000
END:STANDARD
END:VTIMEZONE
BEGIN:VEVENT
DTSTART;TZID=UTC:20220513T190000
DTEND;TZID=UTC:20220513T193000
DTSTAMP:20260419T132342
CREATED:20220401T105207Z
LAST-MODIFIED:20220401T105207Z
UID:3132-1652468400-1652470200@www.corogaraizarkomatsorriak.eus
SUMMARY:GARAIZARKO JAIAK - IKURRIÑAREN ALTXAERA
DESCRIPTION:GARAIZARKO JAIAK – IKURRIÑAREN ALTXAERA \n\nOrdua.- 19:00 etan\n«Gora eta Gora» Euskadiko erreserkia abestuko dugu  Garaizar auzoan  Jaiei hasiera emateko.
URL:https://www.corogaraizarkomatsorriak.eus/eusk/event/garaizarko-jaiak-ikurrinaren-altxaera/
LOCATION:GARAIZAR\, GARAIZAR KALEA\, bILBAO\, Bizkaia\, 48004\, Spain
ATTACH;FMTTYPE=image/jpeg:https://www.corogaraizarkomatsorriak.eus/eusk/wp-content/uploads/sites/2/2015/12/DSC1616.jpg
END:VEVENT
BEGIN:VEVENT
DTSTART;TZID=UTC:20220514T190000
DTEND;TZID=UTC:20220514T203000
DTSTAMP:20260419T132342
CREATED:20220401T110114Z
LAST-MODIFIED:20220514T082300Z
UID:3134-1652554800-1652560200@www.corogaraizarkomatsorriak.eus
SUMMARY:SAN ISIDROKO KONTZERTUA - GARAIZARKO JAIAK
DESCRIPTION:SAN ISIDROKO KONTZERTUA – GARAIZARKO JAIAK \n\nTokia.- Begoñako Santa Monika Komentuan\nParte hartuko duten abesbatzek:\n\nCacabeloseko (Leon) «Ecos de Bérgida» Abesbatza (ahots nahasiak)\nGaraizarko Matsorriak (ahots baxuak).
URL:https://www.corogaraizarkomatsorriak.eus/eusk/event/san-isidroko-kontzertua-garaizarko-jaiak-2/
LOCATION:Santa Monika Komentua\, Zabalbide 161\, Bilbao\, Bizkaia\, 48006
ATTACH;FMTTYPE=image/jpeg:https://www.corogaraizarkomatsorriak.eus/eusk/wp-content/uploads/sites/2/2022/04/programa-Garaizarko-Jaiak_page-00011.jpg
END:VEVENT
BEGIN:VEVENT
DTSTART;TZID=UTC:20220515T130000
DTEND;TZID=UTC:20220515T143000
DTSTAMP:20260419T132342
CREATED:20220401T110346Z
LAST-MODIFIED:20220401T110422Z
UID:3137-1652619600-1652625000@www.corogaraizarkomatsorriak.eus
SUMMARY:TRIKIPOTEO KORALA - GARAIZARKO JAIAK
DESCRIPTION:TRIKIPOTEO KORALA-GARAIZARKO JAIAK \n\nGaraizarko Matsorriak egingo duen trikipoteo\nOrdua 13:00 ean.
URL:https://www.corogaraizarkomatsorriak.eus/eusk/event/trikipoteo-korala-garaizarko-jaiak/
LOCATION:Bizkaia
ATTACH;FMTTYPE=image/jpeg:https://www.corogaraizarkomatsorriak.eus/eusk/wp-content/uploads/sites/2/2018/02/DSC6963_opt.jpg
END:VEVENT
BEGIN:VEVENT
DTSTART;TZID=UTC:20220520T200000
DTEND;TZID=UTC:20220520T213000
DTSTAMP:20260419T132342
CREATED:20220506T160611Z
LAST-MODIFIED:20220506T161128Z
UID:3152-1653076800-1653082200@www.corogaraizarkomatsorriak.eus
SUMMARY:BAEk ANTOLATUTAKO UDABERRIKO KONTZERTUEN XLI EDIZIOA – BARRIKAKO KONTZERTUA
DESCRIPTION:Parte hartuko duten Abesbatzek: \n\n\n\nGaraizarko Matsorriak – Ahots baxuak.\nCoro de Zeanuri – Ahots nahasiak.\nCoro de Barrika.- Ahots nahasiak.
URL:https://www.corogaraizarkomatsorriak.eus/eusk/event/baek-antolatutako-udaberriko-kontzertuen-xli-edizioa-barrikako-kontzertua/
LOCATION:Barrikako Andra Mari Eliza
ATTACH;FMTTYPE=image/jpeg:https://www.corogaraizarkomatsorriak.eus/eusk/wp-content/uploads/sites/2/2022/05/01080098.jpg
ORGANIZER;CN="Bizkaiko Abesbatzen Elkartea (B.A.E.)":MAILTO:bae@euskalnet.net 
END:VEVENT
BEGIN:VEVENT
DTSTART;TZID=UTC:20220521T190000
DTEND;TZID=UTC:20220521T203000
DTSTAMP:20260419T132342
CREATED:20220401T112611Z
LAST-MODIFIED:20220401T112611Z
UID:3139-1653159600-1653165000@www.corogaraizarkomatsorriak.eus
SUMMARY:BAEk ANTOLATUTAKO UDABERRIKO KONTZERTUEN XLI EDIZIOA - ZEANURIKO KONTZERTUA
DESCRIPTION:BAEk ANTOLATUTAKO UDABERRIKO KONTZERTUEN XLI EDIZIOA – ZEANURIKO KONTZERTUA \n\nTokia: Zeanuriko Andra Mariren Elizan\nParte hertuko duten abesbatzek:\n\nBarrikako Abesbatza (ahots nahasiak)\nGaraizarko Mtsorriak (ahots baxuak)\nZeanuriko Abesbatza (ahots nahasiak)
URL:https://www.corogaraizarkomatsorriak.eus/eusk/event/baek-antolatutako-udaberriko-kontzertuen-xli-edizioa-zeanuriko-kontzertua/
LOCATION:Zeanuriko Andra Mariren Elizan\, Elexalde Auzoa\, 53A\,\, Zeanuri\, Bizkaia\, 48960
ATTACH;FMTTYPE=image/jpeg:https://www.corogaraizarkomatsorriak.eus/eusk/wp-content/uploads/sites/2/2022/04/zeanuriko-abesbatza.jpg
END:VEVENT
END:VCALENDAR