BEGIN:VCALENDAR
VERSION:2.0
PRODID:-//Coro Garaizarko Matsorriak - ECPv6.15.17//NONSGML v1.0//EN
CALSCALE:GREGORIAN
METHOD:PUBLISH
X-ORIGINAL-URL:https://www.corogaraizarkomatsorriak.eus/eusk
X-WR-CALDESC:Eventos para Coro Garaizarko Matsorriak
REFRESH-INTERVAL;VALUE=DURATION:PT1H
X-Robots-Tag:noindex
X-PUBLISHED-TTL:PT1H
BEGIN:VTIMEZONE
TZID:UTC
BEGIN:STANDARD
TZOFFSETFROM:+0000
TZOFFSETTO:+0000
TZNAME:UTC
DTSTART:20200101T000000
END:STANDARD
END:VTIMEZONE
BEGIN:VEVENT
DTSTART;TZID=UTC:20211214T193000
DTEND;TZID=UTC:20211214T210000
DTSTAMP:20260421T163011
CREATED:20211211T105340Z
LAST-MODIFIED:20211211T105340Z
UID:3032-1639510200-1639515600@www.corogaraizarkomatsorriak.eus
SUMMARY:KONTZERTUA DEUSTUKO SAN PEDRO PARROKIAN
DESCRIPTION:«Deusto» Senide Elkarteak antolatutako kontzertua Garaizarko Matsorriak Abesbatzaren eskutik.
URL:https://www.corogaraizarkomatsorriak.eus/eusk/event/kontzertua-deustuko-san-pedro-parrokian/
LOCATION:Deustuko San Pedro Parrokia\, San Pedro plaza 1\, Bilbao\, 48014
ATTACH;FMTTYPE=image/jpeg:https://www.corogaraizarkomatsorriak.eus/eusk/wp-content/uploads/sites/2/2021/12/Concierto-14-de-diciembre_page-0001.jpg
END:VEVENT
BEGIN:VEVENT
DTSTART;TZID=UTC:20211217T200000
DTEND;TZID=UTC:20211217T213000
DTSTAMP:20260421T163011
CREATED:20211123T192211Z
LAST-MODIFIED:20211123T192211Z
UID:2991-1639771200-1639776600@www.corogaraizarkomatsorriak.eus
SUMMARY:GABONETAKO ABESBATZA-KONTZERTUA BIRJINETXEKO PARROKIAN.
DESCRIPTION:Urtero egin ohi dugun legez\, Bilboko Udaleko dirulaguntzaz Gabonetako kontzertua eskainiko dugu. Aurton Begoñako Birjinetxe Parrokian (Txudinaga) izango gaituzue arratsaldeko 20:00etan 2021ko abenduaren 17an\, ostirala. \nAbesbatza parte-hartzaileak: \n\nSanfran Korue.\nGaraizarko Matsorriak.
URL:https://www.corogaraizarkomatsorriak.eus/eusk/event/gabonetako-abesbatza-kontzertua-birjinetxeko-parrokian/
LOCATION:Birjinetxeko Parrokia\, Garat Txomin Hiribidea 30\, Bilbo\, 48004
ATTACH;FMTTYPE=image/jpeg:https://www.corogaraizarkomatsorriak.eus/eusk/wp-content/uploads/sites/2/2021/11/GABONETAKO-KONTZERTUAK.jpg
END:VEVENT
END:VCALENDAR